Workbook

Sheet Sheet1
A1: 行政处罚
A3: *行政相对人名称 | B3: *行政相对人类别 | C3: 行政相对人代码_1(统一社会信用代码) | D3: 行政相对人代码_2 (工商注册号) | E3: 行政相对人代码_3(组织机构代码) | F3: 行政相对人代码_4(税务登记号) | G3: 行政相对人代码_5(事业单位证书号) | H3: 行政相对人代码_6(社会组织登记证号) | I3: 法定代表人 | J3: 法定代表人证件类型 | K3: 法定代表人证件号码 | L3: 证件类型 | M3: 证件号码 | N3: *行政处罚决定书文号 | O3: *违法行为类型 | P3: *处罚依据 | Q3: *处罚类别 | R3: *处罚内容 | S3: 罚款金额（万元） | T3: 没收违法所得、没收非法财物的金额（万元） | U3: 暂扣或吊销证照名称及编号 | V3: *处罚决定日期 | W3: *处罚有效期 | X3: *公示截止期 | Y3: *处罚机关 | Z3: *处罚机关统一社会信用代码 | AA3: *数据来源单位 | AB3: *数据来源单位统一社会信用代码
A4: 福州滴滴畅行科技有限公司 | B4: 法人及非法人组织 | C4: 91350104MA33J6T508 | I4: =CONCATENATE(LEFT([2]行政处罚!I4,1),"*") -> 柯* | N4: JZ202405000090 | O4: 提供服务车辆未取得《网络预约出租汽车运输证》 | P4: 《网络预约出租汽车经营服务管理暂行办法》第三十五条第一款第（一）项 | Q4: 罚款 | R4: 罚款人民币壹万玖仟玖佰玖拾玖元整（¥19999） | S4: 1.9999 | V4: 45580 | W4: 73050 | X4: 45945 | Y4: 福州市交通运输综合执法支队 | Z4: 12350100056106250L | AA4: 福州市交通运输局 | AB4: 113501000036047151
A5: 福州滴滴畅行科技有限公司 | B5: 法人及非法人组织 | C5: 91350104MA33J6T508 | I5: =CONCATENATE(LEFT([2]行政处罚!I5,1),"*") -> 柯* | N5: JZ202405000089 | O5: 提供服务车辆未取得《网络预约出租汽车运输证》 | P5: 《网络预约出租汽车经营服务管理暂行办法》第三十五条第一款第（一）项 | Q5: 罚款 | R5: 罚款人民币壹万玖仟玖佰玖拾玖元整（¥19999） | S5: 1.9999 | V5: 45580 | W5: 73050 | X5: 45945 | Y5: 福州市交通运输综合执法支队 | Z5: 12350100056106250L | AA5: 福州市交通运输局 | AB5: 113501000036047151
A6: 福州滴滴畅行科技有限公司 | B6: 法人及非法人组织 | C6: 91350104MA33J6T508 | I6: =CONCATENATE(LEFT([2]行政处罚!I6,1),"*") -> 柯* | N6: JZ202405000088 | O6: 提供服务车辆未取得《网络预约出租汽车运输证》 | P6: 《网络预约出租汽车经营服务管理暂行办法》第三十五条第一款第（一）项 | Q6: 罚款 | R6: 罚款人民币壹万玖仟玖佰玖拾玖元整（¥19999） | S6: 1.9999 | V6: 45580 | W6: 73050 | X6: 45945 | Y6: 福州市交通运输综合执法支队 | Z6: 12350100056106250L | AA6: 福州市交通运输局 | AB6: 113501000036047151
A7: 福州滴滴畅行科技有限公司 | B7: 法人及非法人组织 | C7: 91350104MA33J6T508 | I7: =CONCATENATE(LEFT([2]行政处罚!I7,1),"*") -> 柯* | N7: JZ202405000087 | O7: 提供服务车辆未取得《网络预约出租汽车运输证》 | P7: 《网络预约出租汽车经营服务管理暂行办法》第三十五条第一款第（一）项 | Q7: 罚款 | R7: 罚款人民币壹万玖仟玖佰玖拾玖元整（¥19999） | S7: 1.9999 | V7: 45580 | W7: 73050 | X7: 45945 | Y7: 福州市交通运输综合执法支队 | Z7: 12350100056106250L | AA7: 福州市交通运输局 | AB7: 113501000036047151
A8: 福州训捷汽车驾驶员培训服务有限公司 | B8: 法人及非法人组织 | C8: 91350104761764355G | I8: =CONCATENATE(LEFT([2]行政处罚!I8,1),"*",RIGHT([2]行政处罚!I8,1)) -> 黄*文 | N8: JZ202405000083 | O8: 对驾培机构不按规定使用学时系统的处罚 | P8: 《福州市机动车驾驶员培训管理办法》第二十九条第（三）项 | Q8: 罚款 | R8: 罚款人民币柒仟元整（¥7000） | S8: 0.7 | V8: 45579 | W8: 73050 | X8: 45944 | Y8: 福州市交通运输综合执法支队 | Z8: 12350100056106250L | AA8: 福州市交通运输局 | AB8: 113501000036047151
A9: 福州滴滴畅行科技有限公司 | B9: 法人及非法人组织 | C9: 91350104MA33J6T508 | I9: =CONCATENATE(LEFT([2]行政处罚!I9,1),"*") -> 柯* | N9: JZ202405000100 | O9: 提供服务车辆未取得《网络预约出租汽车运输证》 | P9: 《网络预约出租汽车经营服务管理暂行办法》第三十五条第一款第（一）项 | Q9: 罚款 | R9: 罚款人民币壹万玖仟玖佰玖拾玖元整（¥19999） | S9: 1.9999 | V9: 45579 | W9: 73050 | X9: 45944 | Y9: 福州市交通运输综合执法支队 | Z9: 12350100056106250L | AA9: 福州市交通运输局 | AB9: 113501000036047151
A10: 福州滴滴畅行科技有限公司 | B10: 法人及非法人组织 | C10: 91350104MA33J6T508 | I10: =CONCATENATE(LEFT([2]行政处罚!I10,1),"*") -> 柯* | N10: JZ202405000099 | O10: 提供服务车辆未取得《网络预约出租汽车运输证》 | P10: 《网络预约出租汽车经营服务管理暂行办法》第三十五条第一款第（一）项 | Q10: 罚款 | R10: 罚款人民币壹万玖仟玖佰玖拾玖元整（¥19999） | S10: 1.9999 | V10: 45579 | W10: 73050 | X10: 45944 | Y10: 福州市交通运输综合执法支队 | Z10: 12350100056106250L | AA10: 福州市交通运输局 | AB10: 113501000036047151
A11: 福州滴滴畅行科技有限公司 | B11: 法人及非法人组织 | C11: 91350104MA33J6T508 | I11: =CONCATENATE(LEFT([2]行政处罚!I11,1),"*") -> 柯* | N11: JZ202405000098 | O11: 提供服务车辆未取得《网络预约出租汽车运输证》 | P11: 《网络预约出租汽车经营服务管理暂行办法》第三十五条第一款第（一）项 | Q11: 罚款 | R11: 罚款人民币壹万玖仟玖佰玖拾玖元整（¥19999） | S11: 1.9999 | V11: 45579 | W11: 73050 | X11: 45944 | Y11: 福州市交通运输综合执法支队 | Z11: 12350100056106250L | AA11: 福州市交通运输局 | AB11: 113501000036047151
A12: 福州哈福网络科技有限公司 | B12: 法人及非法人组织 | C12: 91350103MA8TWLQPXP | I12: =CONCATENATE(LEFT([2]行政处罚!I12,1),"*") -> 肖* | N12: JZ202406000114 | O12: 提供服务驾驶员未取得《网络预约出租汽车驾驶员证》 | P12: 《网络预约出租汽车经营服务管理暂行办法》第三十五条第一款第（二）项 | Q12: 罚款 | R12: 罚款人民币壹万玖仟玖佰玖拾玖元整（¥19999） | S12: 1.9999 | V12: 45579 | W12: 73050 | X12: 45944 | Y12: 福州市交通运输综合执法支队 | Z12: 12350100056106250L | AA12: 福州市交通运输局 | AB12: 113501000036047151
A13: 福州哈福网络科技有限公司 | B13: 法人及非法人组织 | C13: 91350103MA8TWLQPXP | I13: =CONCATENATE(LEFT([2]行政处罚!I13,1),"*") -> 肖* | N13: JZ202406000113 | O13: 提供服务车辆未取得《网络预约出租汽车运输证》 | P13: 《网络预约出租汽车经营服务管理暂行办法》第三十五条第一款第（一）项 | Q13: 罚款 | R13: 罚款人民币壹万玖仟玖佰玖拾玖元整（¥19999） | S13: 1.9999 | V13: 45579 | W13: 73050 | X13: 45944 | Y13: 福州市交通运输综合执法支队 | Z13: 12350100056106250L | AA13: 福州市交通运输局 | AB13: 113501000036047151
A14: 福州哈福网络科技有限公司 | B14: 法人及非法人组织 | C14: 91350103MA8TWLQPXP | I14: =CONCATENATE(LEFT([2]行政处罚!I14,1),"*") -> 肖* | N14: JZ202406000112 | O14: 提供服务驾驶员未取得《网络预约出租汽车驾驶员证》 | P14: 《网络预约出租汽车经营服务管理暂行办法》第三十五条第一款第（二）项 | Q14: 罚款 | R14: 罚款人民币壹万玖仟玖佰玖拾玖元整（¥19999） | S14: 1.9999 | V14: 45579 | W14: 73050 | X14: 45944 | Y14: 福州市交通运输综合执法支队 | Z14: 12350100056106250L | AA14: 福州市交通运输局 | AB14: 113501000036047151
A15: 福州哈福网络科技有限公司 | B15: 法人及非法人组织 | C15: 91350103MA8TWLQPXP | I15: =CONCATENATE(LEFT([2]行政处罚!I15,1),"*") -> 肖* | N15: JZ202406000111 | O15: 提供服务车辆未取得《网络预约出租汽车运输证》 | P15: 《网络预约出租汽车经营服务管理暂行办法》第三十五条第一款第（一）项 | Q15: 罚款 | R15: 罚款人民币壹万玖仟玖佰玖拾玖元整（¥19999） | S15: 1.9999 | V15: 45579 | W15: 73050 | X15: 45944 | Y15: 福州市交通运输综合执法支队 | Z15: 12350100056106250L | AA15: 福州市交通运输局 | AB15: 113501000036047151
A16: 福州哈福网络科技有限公司 | B16: 法人及非法人组织 | C16: 91350103MA8TWLQPXP | I16: =CONCATENATE(LEFT([2]行政处罚!I16,1),"*") -> 肖* | N16: JZ202406000110 | O16: 提供服务车辆未取得《网络预约出租汽车运输证》 | P16: 《网络预约出租汽车经营服务管理暂行办法》第三十五条第一款第（一）项 | Q16: 罚款 | R16: 罚款人民币壹万玖仟玖佰玖拾玖元整（¥19999） | S16: 1.9999 | V16: 45579 | W16: 73050 | X16: 45944 | Y16: 福州市交通运输综合执法支队 | Z16: 12350100056106250L | AA16: 福州市交通运输局 | AB16: 113501000036047151
A17: =CONCATENATE(LEFT([2]行政处罚!A17,1),"*",RIGHT([2]行政处罚!A17,1)) -> 孙*佃 | B17: 自然人 | L17: 身份证 | M17: =CONCATENATE(LEFT([2]行政处罚!M17,6),"*******",RIGHT([2]行政处罚!M17,4)) -> 350124*******4972 | N17: JZ202406010116 | O17: 未取得《网络预约出租汽车运输证》擅自从事或者变相从事网约车经营活动 | P17: 《网络预约出租汽车经营服务管理暂行办法》第三十四条第一款第（二）项 | Q17: 罚款 | R17: 警告、罚款人民币肆仟玖佰玖拾玖元整（¥4999） | S17: 0.4999 | V17: 45581 | W17: 73050 | X17: 45946 | Y17: 福州市交通运输综合执法支队 | Z17: 12350100056106250L | AA17: 福州市交通运输局 | AB17: 113501000036047151
A18: =CONCATENATE(LEFT([2]行政处罚!A18,1),"*",RIGHT([2]行政处罚!A18,1)) -> 曹*聪 | B18: 自然人 | L18: 身份证 | M18: =CONCATENATE(LEFT([2]行政处罚!M18,6),"*******",RIGHT([2]行政处罚!M18,4)) -> 431023*******2110 | N18: JZ202402030011 | O18: 车辆装载物触地拖行、掉落、遗洒或者飘散 | P18: 《公路安全保护条例》第六十九条 | Q18: 罚款 | R18: 罚款人民币玖佰玖拾玖元整（¥999） | S18: 0.0999 | V18: 45580 | W18: 73050 | X18: 45945 | Y18: 福州市交通运输综合执法支队 | Z18: 12350100056106250L | AA18: 福州市交通运输局 | AB18: 113501000036047151
A19: =CONCATENATE(LEFT([2]行政处罚!A19,1),"*",RIGHT([2]行政处罚!A19,1)) -> 石*达 | B19: 自然人 | L19: 身份证 | M19: =CONCATENATE(LEFT([2]行政处罚!M19,6),"*******",RIGHT([2]行政处罚!M19,4)) -> 350104*******0090 | N19: JZ202403000155 | O19: 营运途中甩客、无故绕行 | P19: 《福建省道路运输条例》第七十三条第（九）项 | Q19: 罚款 | R19: 罚款人民币玖佰玖拾玖元整（¥999）、没收违法所得人民币壹佰伍拾贰元整（¥152），合计罚没人民币壹仟壹佰伍拾壹元整（¥1151） | S19: 0.0999 | V19: 45579 | W19: 73050 | X19: 45944 | Y19: 福州市交通运输综合执法支队 | Z19: 12350100056106250L | AA19: 福州市交通运输局 | AB19: 113501000036047151
A20: =CONCATENATE(LEFT([2]行政处罚!A20,1),"*",RIGHT([2]行政处罚!A20,1)) -> 张*明 | B20: 自然人 | L20: 身份证 | M20: =CONCATENATE(LEFT([2]行政处罚!M20,6),"*******",RIGHT([2]行政处罚!M20,4)) -> 350125*******0310 | N20: JZ202401020051 | O20: 未取得《出租汽车客运经营资格证》从事出租汽车客运经营 | P20: 《福建省道路运输条例》第七十二条 | Q20: 罚款 | R20: 罚款人民币玖仟玖佰玖拾玖元整（¥9999） | S20: 0.9999 | V20: 45581 | W20: 73050 | X20: 45946 | Y20: 福州市交通运输综合执法支队 | Z20: 12350100056106250L | AA20: 福州市交通运输局 | AB20: 113501000036047151
A21: =CONCATENATE(LEFT([2]行政处罚!A21,1),"*") -> 黄* | B21: 自然人 | L21: 身份证 | M21: =CONCATENATE(LEFT([2]行政处罚!M21,6),"*******",RIGHT([2]行政处罚!M21,4)) -> 352227*******1813 | N21: JZ202403000145 | O21: 对出租车驾驶员不使用、不按规定使用计价器的处罚 | P21: 《福州市客运出租汽车管理办法》第五十条第（三）项 | Q21: 罚款 | R21: 罚款人民币壹仟元整（¥1000） | S21: 0.1 | V21: 45581 | W21: 73050 | X21: 45946 | Y21: 福州市交通运输综合执法支队 | Z21: 12350100056106250L | AA21: 福州市交通运输局 | AB21: 113501000036047151
A22: =CONCATENATE(LEFT([2]行政处罚!A22,1),"*",RIGHT([2]行政处罚!A22,1)) -> 张*士 | B22: 自然人 | L22: 身份证 | M22: =CONCATENATE(LEFT([2]行政处罚!M22,6),"*******",RIGHT([2]行政处罚!M22,4)) -> 362229*******2610 | N22: JZ202403000128 | O22: 营运途中甩客、无故绕行 | P22: 《福建省道路运输条例》第七十三条第（九）项 | Q22: 罚款 | R22: 罚款人民币玖佰玖拾玖元整（¥999） | S22: 0.0999 | V22: 45580 | W22: 73050 | X22: 45945 | Y22: 福州市交通运输综合执法支队 | Z22: 12350100056106250L | AA22: 福州市交通运输局 | AB22: 113501000036047151
A23: =CONCATENATE(LEFT([2]行政处罚!A23,1),"*",RIGHT([2]行政处罚!A23,1)) -> 石*达 | B23: 自然人 | L23: 身份证 | M23: =CONCATENATE(LEFT([2]行政处罚!M23,6),"*******",RIGHT([2]行政处罚!M23,4)) -> 350104*******0090 | N23: JZ202401010037 | O23: 出租车驾驶员不按计价器显示金额收费的处罚 | P23: 《福州市客运出租汽车管理办法》第五十条第（三）项 | Q23: 罚款 | R23: 罚款人民币壹仟元整（¥1000） | S23: 0.1 | V23: 45579 | W23: 73050 | X23: 45944 | Y23: 福州市交通运输综合执法支队 | Z23: 12350100056106250L | AA23: 福州市交通运输局 | AB23: 113501000036047151
A24: =CONCATENATE(LEFT([2]行政处罚!A24,1),"*") -> 陈* | B24: 自然人 | L24: 身份证 | M24: =CONCATENATE(LEFT([2]行政处罚!M24,6),"*******",RIGHT([2]行政处罚!M24,4)) -> 350182*******2793 | N24: JZ202401010034 | O24: 无正当理由拒载或者未经乘客同意招徕其他乘客同乘 | P24: 《福建省道路运输条例》第七十三条第（十）项 | Q24: 罚款 | R24: 罚款人民币玖佰玖拾玖元整（¥999） | S24: 0.0999 | V24: 45581 | W24: 73050 | X24: 45946 | Y24: 福州市交通运输综合执法支队 | Z24: 12350100056106250L | AA24: 福州市交通运输局 | AB24: 113501000036047151
